BEGIN:VCALENDAR
VERSION:2.0
METHOD:PUBLISH
BEGIN:VEVENT
DTSTART:20241206T130000Z
DTEND:20241208T200000Z
LOCATION:Fairhope, AL 36532
TRANSP: OPAQUE
SEQUENCE:0
UID:
DTSTAMP:20260422T064617Z
SUMMARY:Fairhope Alabama Early Single Tax and mid century artist's estate Organic School Grad
DESCRIPTION:Fairhope Alabama Early Single Tax and mid century artist's estate Organic School Grad Uncommon Artifacts Estate Services LLC 
UID:1776861977
STREET-ADDRESS:See website
POSTAL-CODE:36532
LOCALITY:Fairhope
REGION:ABBREV=AL
COUNTRY:ABBREV=US;ABBREV=USA:United States
URL;TYPE=Event Listing:https://estatesales.org/estate-sales/al/fairhope/36532/fairhope-alabama-early-single-tax-2351888
PRIORITY:1
CLASS:PUBLIC
SEQUENCE:0
STATUS:CONFIRMED
TRANSP:OPAQUE
END:VEVENT
END:VCALENDAR
