BEGIN:VCALENDAR
VERSION:2.0
METHOD:PUBLISH
BEGIN:VEVENT
DTSTART:20131206T213000Z
DTEND:20131207T210000Z
LOCATION:Madison, WI 53714
TRANSP: OPAQUE
SEQUENCE:0
UID:
DTSTAMP:20260420T065049Z
SUMMARY:3rd ANNUAL TREASURE SALE
DESCRIPTION:3rd ANNUAL TREASURE SALE Eastside Friends of the Dharma 
UID:1776689449
STREET-ADDRESS:See website
POSTAL-CODE:53714
LOCALITY:Madison
REGION:ABBREV=WI
COUNTRY:ABBREV=US;ABBREV=USA:United States
URL;TYPE=Event Listing:https://estatesales.org/estate-sales/wi/madison/53714/3rd-annual-treasure-sale-344927
PRIORITY:1
CLASS:PUBLIC
SEQUENCE:0
STATUS:CONFIRMED
TRANSP:OPAQUE
END:VEVENT
END:VCALENDAR
