BEGIN:VCALENDAR
VERSION:2.0
METHOD:PUBLISH
BEGIN:VEVENT
DTSTART:20251205T180000Z
DTEND:20251207T230000Z
LOCATION:Ross, CA 94957
TRANSP: OPAQUE
SEQUENCE:0
UID:
DTSTAMP:20260419T070952Z
SUMMARY:Brunos Estate Sales presents a beautiful Sale in Ross
DESCRIPTION:Brunos Estate Sales presents a beautiful Sale in Ross Bruno’s Estate Sales, LLC 
UID:1776604192
STREET-ADDRESS:See website
POSTAL-CODE:94957
LOCALITY:Ross
REGION:ABBREV=CA
COUNTRY:ABBREV=US;ABBREV=USA:United States
URL;TYPE=Event Listing:https://estatesales.org/estate-sales/ca/ross/94957/brunos-estate-sales-presents-a-2414812
PRIORITY:1
CLASS:PUBLIC
SEQUENCE:0
STATUS:CONFIRMED
TRANSP:OPAQUE
END:VEVENT
END:VCALENDAR
