BEGIN:VCALENDAR
VERSION:2.0
METHOD:PUBLISH
BEGIN:VEVENT
DTSTART:20251205T153000Z
DTEND:20251206T220000Z
LOCATION:Milwaukee, WI 53221
TRANSP: OPAQUE
SEQUENCE:0
UID:
DTSTAMP:20260425T162528Z
SUMMARY:75% OFF EVERYTHING PRICED MKE ESTATE SALE
DESCRIPTION:75% OFF EVERYTHING PRICED MKE ESTATE SALE Best Estate Services Inc. 
UID:1777155928
STREET-ADDRESS:See website
POSTAL-CODE:53221
LOCALITY:Milwaukee
REGION:ABBREV=WI
COUNTRY:ABBREV=US;ABBREV=USA:United States
URL;TYPE=Event Listing:https://estatesales.org/estate-sales/wi/milwaukee/53221/50-off-everything-priced-mke-2415705
PRIORITY:1
CLASS:PUBLIC
SEQUENCE:0
STATUS:CONFIRMED
TRANSP:OPAQUE
END:VEVENT
END:VCALENDAR
