BEGIN:VCALENDAR
VERSION:2.0
METHOD:PUBLISH
BEGIN:VEVENT
DTSTART:20251205T160000Z
DTEND:20251207T210000Z
LOCATION:Tempe, AZ 85282
TRANSP: OPAQUE
SEQUENCE:0
UID:
DTSTAMP:20260425T094601Z
SUMMARY:Tempe Estate Sale with Gold and Native American Jewelry, collectibles, geodes and international finds
DESCRIPTION:Tempe Estate Sale with Gold and Native American Jewelry, collectibles, geodes and international finds Fresh Start Estate Sales LLC 
UID:1777131961
STREET-ADDRESS:See website
POSTAL-CODE:85282
LOCALITY:Tempe
REGION:ABBREV=AZ
COUNTRY:ABBREV=US;ABBREV=USA:United States
URL;TYPE=Event Listing:https://estatesales.org/estate-sales/az/tempe/85282/tempe-estate-sale-with-gold-2415523
PRIORITY:1
CLASS:PUBLIC
SEQUENCE:0
STATUS:CONFIRMED
TRANSP:OPAQUE
END:VEVENT
END:VCALENDAR
