BEGIN:VCALENDAR
VERSION:2.0
METHOD:PUBLISH
BEGIN:VEVENT
DTSTART:20251205T140000Z
DTEND:20251206T170000Z
LOCATION:Louisville, KY 40207
TRANSP: OPAQUE
SEQUENCE:0
UID:
DTSTAMP:20260419T113717Z
SUMMARY:White Linen Estate Sale!
DESCRIPTION:White Linen Estate Sale! White Linen Estate Sales 
UID:1776620237
STREET-ADDRESS:See website
POSTAL-CODE:40207
LOCALITY:Louisville
REGION:ABBREV=KY
COUNTRY:ABBREV=US;ABBREV=USA:United States
URL;TYPE=Event Listing:https://estatesales.org/estate-sales/ky/louisville/40207/white-linen-estate-sale-2415742
PRIORITY:1
CLASS:PUBLIC
SEQUENCE:0
STATUS:CONFIRMED
TRANSP:OPAQUE
END:VEVENT
END:VCALENDAR
