BEGIN:VCALENDAR
VERSION:2.0
METHOD:PUBLISH
BEGIN:VEVENT
DTSTART:20251205T150000Z
DTEND:20251206T200000Z
LOCATION:Spring, TX 77388
TRANSP: OPAQUE
SEQUENCE:0
UID:
DTSTAMP:20260425T124239Z
SUMMARY:Cypresswood TWO DAY SALE
DESCRIPTION:Cypresswood TWO DAY SALE Caring Transitions CyFair and Surrounding Area 
UID:1777142559
STREET-ADDRESS:See website
POSTAL-CODE:77388
LOCALITY:Spring
REGION:ABBREV=TX
COUNTRY:ABBREV=US;ABBREV=USA:United States
URL;TYPE=Event Listing:https://estatesales.org/estate-sales/tx/spring/77388/cypresswood-two-day-sale-2415334
PRIORITY:1
CLASS:PUBLIC
SEQUENCE:0
STATUS:CONFIRMED
TRANSP:OPAQUE
END:VEVENT
END:VCALENDAR
