BEGIN:VCALENDAR
VERSION:2.0
METHOD:PUBLISH
BEGIN:VEVENT
DTSTART:20251205T150000Z
DTEND:20251207T210000Z
LOCATION:Gilbert, AZ 85296
TRANSP: OPAQUE
SEQUENCE:0
UID:
DTSTAMP:20260424T104959Z
SUMMARY:Grasons of Gilbert 3 Day Estate Sale (Gilbert)
DESCRIPTION:Grasons of Gilbert 3 Day Estate Sale (Gilbert) Grasons of Gilbert, AZ 
UID:1777049399
STREET-ADDRESS:See website
POSTAL-CODE:85296
LOCALITY:Gilbert
REGION:ABBREV=AZ
COUNTRY:ABBREV=US;ABBREV=USA:United States
URL;TYPE=Event Listing:https://estatesales.org/estate-sales/az/gilbert/85296/grasons-of-gilbert-3-day-2415936
PRIORITY:1
CLASS:PUBLIC
SEQUENCE:0
STATUS:CONFIRMED
TRANSP:OPAQUE
END:VEVENT
END:VCALENDAR
