BEGIN:VCALENDAR
VERSION:2.0
METHOD:PUBLISH
BEGIN:VEVENT
DTSTART:20231205T230000Z
DTEND:20231206T020000Z
LOCATION:Arnold, MO 63010
TRANSP: OPAQUE
SEQUENCE:0
UID:
DTSTAMP:20260419T195205Z
SUMMARY:HUGE AUCTION !!
DESCRIPTION:HUGE AUCTION !! Kube Auction Service 
UID:1776649925
STREET-ADDRESS:See website
POSTAL-CODE:63010
LOCALITY:Arnold
REGION:ABBREV=MO
COUNTRY:ABBREV=US;ABBREV=USA:United States
URL;TYPE=Event Listing:https://estatesales.org/estate-sales/mo/arnold/63010/huge-auction-2262369
PRIORITY:1
CLASS:PUBLIC
SEQUENCE:0
STATUS:CONFIRMED
TRANSP:OPAQUE
END:VEVENT
END:VCALENDAR
