BEGIN:VCALENDAR
VERSION:2.0
METHOD:PUBLISH
BEGIN:VEVENT
DTSTART:20181205T150000Z
DTEND:20181209T230000Z
LOCATION:Tulsa, OK 74112
TRANSP: OPAQUE
SEQUENCE:0
UID:
DTSTAMP:20260421T093607Z
SUMMARY:5th Annual Winter Warehouse Sale
DESCRIPTION:5th Annual Winter Warehouse Sale Estate Sales by Allen 
UID:1776785767
STREET-ADDRESS:See website
POSTAL-CODE:74112
LOCALITY:Tulsa
REGION:ABBREV=OK
COUNTRY:ABBREV=US;ABBREV=USA:United States
URL;TYPE=Event Listing:https://estatesales.org/estate-sales/ok/tulsa/74112/5th-annual-winter-warehouse-sale-1601675
PRIORITY:1
CLASS:PUBLIC
SEQUENCE:0
STATUS:CONFIRMED
TRANSP:OPAQUE
END:VEVENT
END:VCALENDAR
