BEGIN:VCALENDAR
VERSION:2.0
METHOD:PUBLISH
BEGIN:VEVENT
DTSTART:20151205T133000Z
DTEND:20151205T193000Z
LOCATION:Dover, MA 02030
TRANSP: OPAQUE
SEQUENCE:0
UID:
DTSTAMP:20260419T104549Z
SUMMARY:Dover Estate Sale
DESCRIPTION:Dover Estate Sale Precision Estate Sales 
UID:1776617149
STREET-ADDRESS:See website
POSTAL-CODE:02030
LOCALITY:Dover
REGION:ABBREV=MA
COUNTRY:ABBREV=US;ABBREV=USA:United States
URL;TYPE=Event Listing:https://estatesales.org/estate-sales/ma/dover/02030/dover-estate-sale-733585
PRIORITY:1
CLASS:PUBLIC
SEQUENCE:0
STATUS:CONFIRMED
TRANSP:OPAQUE
END:VEVENT
END:VCALENDAR
