BEGIN:VCALENDAR
VERSION:2.0
METHOD:PUBLISH
BEGIN:VEVENT
DTSTART:20151205T153000Z
DTEND:20151205T230000Z
LOCATION:Bakersfield, CA 93306
TRANSP: OPAQUE
SEQUENCE:0
UID:
DTSTAMP:20260425T212952Z
SUMMARY:Sweet Little Mostly Furniture House
DESCRIPTION:Sweet Little Mostly Furniture House A Masterful Job Estate Sales 
UID:1777174192
STREET-ADDRESS:See website
POSTAL-CODE:93306
LOCALITY:Bakersfield
REGION:ABBREV=CA
COUNTRY:ABBREV=US;ABBREV=USA:United States
URL;TYPE=Event Listing:https://estatesales.org/estate-sales/ca/bakersfield/93306/sweet-little-mostly-furniture-house-736827
PRIORITY:1
CLASS:PUBLIC
SEQUENCE:0
STATUS:CONFIRMED
TRANSP:OPAQUE
END:VEVENT
END:VCALENDAR
