BEGIN:VCALENDAR
VERSION:2.0
METHOD:PUBLISH
BEGIN:VEVENT
DTSTART:20251204T160000Z
DTEND:20251206T200000Z
LOCATION:Norman, OK 73069
TRANSP: OPAQUE
SEQUENCE:0
UID:
DTSTAMP:20260425T113015Z
SUMMARY:Giant Glam/Vintage Estate Sale
DESCRIPTION:Giant Glam/Vintage Estate Sale Vincent Estate Sales 
UID:1777138215
STREET-ADDRESS:See website
POSTAL-CODE:73069
LOCALITY:Norman
REGION:ABBREV=OK
COUNTRY:ABBREV=US;ABBREV=USA:United States
URL;TYPE=Event Listing:https://estatesales.org/estate-sales/ok/norman/73069/giant-glamvintage-estate-sale-2414369
PRIORITY:1
CLASS:PUBLIC
SEQUENCE:0
STATUS:CONFIRMED
TRANSP:OPAQUE
END:VEVENT
END:VCALENDAR
