BEGIN:VCALENDAR
VERSION:2.0
METHOD:PUBLISH
BEGIN:VEVENT
DTSTART:20251204T170000Z
DTEND:20251206T210000Z
LOCATION:San Gabriel, CA 91775
TRANSP: OPAQUE
SEQUENCE:0
UID:
DTSTAMP:20260424T175441Z
SUMMARY:Grasons Prestige Estate Sale in San Gabriel
DESCRIPTION:Grasons Prestige Estate Sale in San Gabriel Grasons Co Prestige Pasadena & Territories  
UID:1777074881
STREET-ADDRESS:See website
POSTAL-CODE:91775
LOCALITY:San Gabriel
REGION:ABBREV=CA
COUNTRY:ABBREV=US;ABBREV=USA:United States
URL;TYPE=Event Listing:https://estatesales.org/estate-sales/ca/san-gabriel/91775/grasons-prestige-estate-sale-in-2410987
PRIORITY:1
CLASS:PUBLIC
SEQUENCE:0
STATUS:CONFIRMED
TRANSP:OPAQUE
END:VEVENT
END:VCALENDAR
