BEGIN:VCALENDAR
VERSION:2.0
METHOD:PUBLISH
BEGIN:VEVENT
DTSTART:20221204T170000Z
DTEND:20221204T233000Z
LOCATION:Yorba Linda, CA 92886
TRANSP: OPAQUE
SEQUENCE:0
UID:
DTSTAMP:20260420T044104Z
SUMMARY:Fabulous One Day Sunday Estate Sale
DESCRIPTION:Fabulous One Day Sunday Estate Sale Hidden Treasure Estate Sales 
UID:1776681664
STREET-ADDRESS:See website
POSTAL-CODE:92886
LOCALITY:Yorba Linda
REGION:ABBREV=CA
COUNTRY:ABBREV=US;ABBREV=USA:United States
URL;TYPE=Event Listing:https://estatesales.org/estate-sales/ca/yorba-linda/92886/fabulous-one-day-sunday-estate-2127027
PRIORITY:1
CLASS:PUBLIC
SEQUENCE:0
STATUS:CONFIRMED
TRANSP:OPAQUE
END:VEVENT
END:VCALENDAR
