BEGIN:VCALENDAR
VERSION:2.0
METHOD:PUBLISH
BEGIN:VEVENT
DTSTART:20201204T130000Z
DTEND:20201206T200000Z
LOCATION:Mobile, AL 36693
TRANSP: OPAQUE
SEQUENCE:0
UID:
DTSTAMP:20260422T064510Z
SUMMARY:West Mobile Holiday Moving Estate Sale
DESCRIPTION:West Mobile Holiday Moving Estate Sale Uncommon Artifacts Estate Services LLC 
UID:1776861910
STREET-ADDRESS:See website
POSTAL-CODE:36693
LOCALITY:Mobile
REGION:ABBREV=AL
COUNTRY:ABBREV=US;ABBREV=USA:United States
URL;TYPE=Event Listing:https://estatesales.org/estate-sales/al/mobile/36693/west-mobile-holiday-moving-estate-1851415
PRIORITY:1
CLASS:PUBLIC
SEQUENCE:0
STATUS:CONFIRMED
TRANSP:OPAQUE
END:VEVENT
END:VCALENDAR
