BEGIN:VCALENDAR
VERSION:2.0
METHOD:PUBLISH
BEGIN:VEVENT
DTSTART:20171204T143000Z
DTEND:20171204T213000Z
LOCATION:Johnson Creek, WI 53094
TRANSP: OPAQUE
SEQUENCE:0
UID:
DTSTAMP:20260422T025512Z
SUMMARY:Midwest Finest First Monday Auction
DESCRIPTION:Midwest Finest First Monday Auction All American Sales & Auctions, LLC 
UID:1776848112
STREET-ADDRESS:See website
POSTAL-CODE:53094
LOCALITY:Johnson Creek
REGION:ABBREV=WI
COUNTRY:ABBREV=US;ABBREV=USA:United States
URL;TYPE=Event Listing:https://estatesales.org/estate-sales/wi/johnson-creek/53094/midwest-finest-first-monday-auction-1447889
PRIORITY:1
CLASS:PUBLIC
SEQUENCE:0
STATUS:CONFIRMED
TRANSP:OPAQUE
END:VEVENT
END:VCALENDAR
