BEGIN:VCALENDAR
VERSION:2.0
METHOD:PUBLISH
BEGIN:VEVENT
DTSTART:20151204T170000Z
DTEND:20151206T220000Z
LOCATION:Georgetown, TX 78628
TRANSP: OPAQUE
SEQUENCE:0
UID:
DTSTAMP:20260424T121831Z
SUMMARY:Mid-Century Modern Estate Sale in Georgetown
DESCRIPTION:Mid-Century Modern Estate Sale in Georgetown Past 2 Present Estate Sale Service 
UID:1777054711
STREET-ADDRESS:See website
POSTAL-CODE:78628
LOCALITY:Georgetown
REGION:ABBREV=TX
COUNTRY:ABBREV=US;ABBREV=USA:United States
URL;TYPE=Event Listing:https://estatesales.org/estate-sales/tx/georgetown/78628/midcentury-modern-estate-sale-in-730311
PRIORITY:1
CLASS:PUBLIC
SEQUENCE:0
STATUS:CONFIRMED
TRANSP:OPAQUE
END:VEVENT
END:VCALENDAR
