BEGIN:VCALENDAR
VERSION:2.0
METHOD:PUBLISH
BEGIN:VEVENT
DTSTART:20251203T140000Z
DTEND:20251204T000000Z
LOCATION:Huntington, NY 11743
TRANSP: OPAQUE
SEQUENCE:0
UID:
DTSTAMP:20260420T030331Z
SUMMARY:🌸 ESTATE SALE – HUGE ASIAN DECOR COLLECTION 🌸 📍 3 Ware Ave, Huntington, NY 11743
DESCRIPTION:🌸 ESTATE SALE – HUGE ASIAN DECOR COLLECTION 🌸 📍 3 Ware Ave, Huntington, NY 11743 THRIFT HAPPENS 
UID:1776675811
STREET-ADDRESS:See website
POSTAL-CODE:11743
LOCALITY:Huntington
REGION:ABBREV=NY
COUNTRY:ABBREV=US;ABBREV=USA:United States
URL;TYPE=Event Listing:https://estatesales.org/estate-sales/ny/huntington-/11743/estate-sale-huge-asian-decor-2415997
PRIORITY:1
CLASS:PUBLIC
SEQUENCE:0
STATUS:CONFIRMED
TRANSP:OPAQUE
END:VEVENT
END:VCALENDAR
