BEGIN:VCALENDAR
VERSION:2.0
METHOD:PUBLISH
BEGIN:VEVENT
DTSTART:20211203T180000Z
DTEND:20211205T200000Z
LOCATION:Salinas, CA 93906
TRANSP: OPAQUE
SEQUENCE:0
UID:
DTSTAMP:20260421T115605Z
SUMMARY:Mid Centry estate 
DESCRIPTION:Mid Centry estate  A Move Made SImple 
UID:1776794165
STREET-ADDRESS:See website
POSTAL-CODE:93906
LOCALITY:Salinas
REGION:ABBREV=CA
COUNTRY:ABBREV=US;ABBREV=USA:United States
URL;TYPE=Event Listing:https://estatesales.org/estate-sales/ca/salinas-/93906/mid-centry-estate-1989737
PRIORITY:1
CLASS:PUBLIC
SEQUENCE:0
STATUS:CONFIRMED
TRANSP:OPAQUE
END:VEVENT
END:VCALENDAR
