BEGIN:VCALENDAR
VERSION:2.0
METHOD:PUBLISH
BEGIN:VEVENT
DTSTART:20211203T163000Z
DTEND:20211205T220000Z
LOCATION:Bakersfield, CA 93308
TRANSP: OPAQUE
SEQUENCE:0
UID:
DTSTAMP:20260423T182043Z
SUMMARY:~ Spotlight Toys & Tools Christmas Sale - Guitars, Mid Century, Western and More ~
DESCRIPTION:~ Spotlight Toys & Tools Christmas Sale - Guitars, Mid Century, Western and More ~ Teddy Dog Finds 
UID:1776990043
STREET-ADDRESS:See website
POSTAL-CODE:93308
LOCALITY:Bakersfield
REGION:ABBREV=CA
COUNTRY:ABBREV=US;ABBREV=USA:United States
URL;TYPE=Event Listing:https://estatesales.org/estate-sales/ca/bakersfield/93308/spotlight-toys-tools-christmas-sale-1988105
PRIORITY:1
CLASS:PUBLIC
SEQUENCE:0
STATUS:CONFIRMED
TRANSP:OPAQUE
END:VEVENT
END:VCALENDAR
