BEGIN:VCALENDAR
VERSION:2.0
METHOD:PUBLISH
BEGIN:VEVENT
DTSTART:20161203T140000Z
DTEND:20161203T190000Z
LOCATION:Athens, GA 30606
TRANSP: OPAQUE
SEQUENCE:0
UID:
DTSTAMP:20260425T102707Z
SUMMARY:CHRISTMAS LIQUIDATION!!! OVERSTOCK MUST GO!!!
DESCRIPTION:CHRISTMAS LIQUIDATION!!! OVERSTOCK MUST GO!!! Transitioning America 
UID:1777134427
STREET-ADDRESS:See website
POSTAL-CODE:30606
LOCALITY:Athens
REGION:ABBREV=GA
COUNTRY:ABBREV=US;ABBREV=USA:United States
URL;TYPE=Event Listing:https://estatesales.org/estate-sales/ga/athens/30606/christmas-liquidation-overstock-must-go-1040389
PRIORITY:1
CLASS:PUBLIC
SEQUENCE:0
STATUS:CONFIRMED
TRANSP:OPAQUE
END:VEVENT
END:VCALENDAR
