BEGIN:VCALENDAR
VERSION:2.0
METHOD:PUBLISH
BEGIN:VEVENT
DTSTART:20251202T150000Z
DTEND:20251203T173000Z
LOCATION:Oviedo, FL 32765
TRANSP: OPAQUE
SEQUENCE:0
UID:
DTSTAMP:20260419T121859Z
SUMMARY:Designer Sale In Oviedo -Estate Sale Stars
DESCRIPTION:Designer Sale In Oviedo -Estate Sale Stars Estate Sale Stars 
UID:1776622739
STREET-ADDRESS:See website
POSTAL-CODE:32765
LOCALITY:Oviedo
REGION:ABBREV=FL
COUNTRY:ABBREV=US;ABBREV=USA:United States
URL;TYPE=Event Listing:https://estatesales.org/estate-sales/fl/oviedo/32765/designer-sale-in-oviedo-estate-2414240
PRIORITY:1
CLASS:PUBLIC
SEQUENCE:0
STATUS:CONFIRMED
TRANSP:OPAQUE
END:VEVENT
END:VCALENDAR
