BEGIN:VCALENDAR
VERSION:2.0
METHOD:PUBLISH
BEGIN:VEVENT
DTSTART:20221202T140000Z
DTEND:20221203T200000Z
LOCATION:Concord, MA 01742
TRANSP: OPAQUE
SEQUENCE:0
UID:
DTSTAMP:20260419T092814Z
SUMMARY:Historic Concord Two Day Estate Sale. Friday and Saturday. December 2-3
DESCRIPTION:Historic Concord Two Day Estate Sale. Friday and Saturday. December 2-3 Estate Sale Specialists, LLC 
UID:1776612494
STREET-ADDRESS:See website
POSTAL-CODE:01742
LOCALITY:Concord
REGION:ABBREV=MA
COUNTRY:ABBREV=US;ABBREV=USA:United States
URL;TYPE=Event Listing:https://estatesales.org/estate-sales/ma/concord/01742/historic-concord-two-day-estate-2123939
PRIORITY:1
CLASS:PUBLIC
SEQUENCE:0
STATUS:CONFIRMED
TRANSP:OPAQUE
END:VEVENT
END:VCALENDAR
