BEGIN:VCALENDAR
VERSION:2.0
METHOD:PUBLISH
BEGIN:VEVENT
DTSTART:20221202T140000Z
DTEND:20221203T190000Z
LOCATION:Seekonk, MA 02771
TRANSP: OPAQUE
SEQUENCE:0
UID:
DTSTAMP:20260420T012552Z
SUMMARY:Seekonk Pickers Estate Sale
DESCRIPTION:Seekonk Pickers Estate Sale Hidden Treasures Estate Sales & Cleanouts 
UID:1776669952
STREET-ADDRESS:See website
POSTAL-CODE:02771
LOCALITY:Seekonk
REGION:ABBREV=MA
COUNTRY:ABBREV=US;ABBREV=USA:United States
URL;TYPE=Event Listing:https://estatesales.org/estate-sales/ma/seekonk/02771/seekonk-pickers-estate-sale-2124161
PRIORITY:1
CLASS:PUBLIC
SEQUENCE:0
STATUS:CONFIRMED
TRANSP:OPAQUE
END:VEVENT
END:VCALENDAR
