BEGIN:VCALENDAR
VERSION:2.0
METHOD:PUBLISH
BEGIN:VEVENT
DTSTART:20221202T163000Z
DTEND:20221204T220000Z
LOCATION:Bakersfield, CA 93314
TRANSP: OPAQUE
SEQUENCE:0
UID:
DTSTAMP:20260422T062333Z
SUMMARY:Beautiful Rosedale sale
DESCRIPTION:Beautiful Rosedale sale All About You Liquidation 
UID:1776860613
STREET-ADDRESS:See website
POSTAL-CODE:93314
LOCALITY:Bakersfield
REGION:ABBREV=CA
COUNTRY:ABBREV=US;ABBREV=USA:United States
URL;TYPE=Event Listing:https://estatesales.org/estate-sales/ca/bakersfield/93314/beautiful-rosedale-sale-2126793
PRIORITY:1
CLASS:PUBLIC
SEQUENCE:0
STATUS:CONFIRMED
TRANSP:OPAQUE
END:VEVENT
END:VCALENDAR
