BEGIN:VCALENDAR
VERSION:2.0
METHOD:PUBLISH
BEGIN:VEVENT
DTSTART:20221202T200000Z
DTEND:20221204T210000Z
LOCATION:Millersburg, MI 49759
TRANSP: OPAQUE
SEQUENCE:0
UID:
DTSTAMP:20260423T233440Z
SUMMARY:BLACK RIVER ESTATE SALES - Millersburg Weekend Fun
DESCRIPTION:BLACK RIVER ESTATE SALES - Millersburg Weekend Fun Black River Estate Sales 
UID:1777008880
STREET-ADDRESS:See website
POSTAL-CODE:49759
LOCALITY:Millersburg
REGION:ABBREV=MI
COUNTRY:ABBREV=US;ABBREV=USA:United States
URL;TYPE=Event Listing:https://estatesales.org/estate-sales/mi/ocqueoc/49759/black-river-estate-sales-millersburg-2126733
PRIORITY:1
CLASS:PUBLIC
SEQUENCE:0
STATUS:CONFIRMED
TRANSP:OPAQUE
END:VEVENT
END:VCALENDAR
