BEGIN:VCALENDAR
VERSION:2.0
METHOD:PUBLISH
BEGIN:VEVENT
DTSTART:20211202T140000Z
DTEND:20211205T200000Z
LOCATION:Grand Ledge, MI 48837
TRANSP: OPAQUE
SEQUENCE:0
UID:
DTSTAMP:20260423T233328Z
SUMMARY:GRAND LEDGE, MICHIGAN!!! THIS IS THE BIGGEST SALE OF THE YEAR!!
DESCRIPTION:GRAND LEDGE, MICHIGAN!!! THIS IS THE BIGGEST SALE OF THE YEAR!! Caring Transitions of S.E. Michigan 
UID:1777008808
STREET-ADDRESS:See website
POSTAL-CODE:48837
LOCALITY:Grand Ledge
REGION:ABBREV=MI
COUNTRY:ABBREV=US;ABBREV=USA:United States
URL;TYPE=Event Listing:https://estatesales.org/estate-sales/mi/grand-ledge/48837/grand-ledge-michigan-this-is-1988005
PRIORITY:1
CLASS:PUBLIC
SEQUENCE:0
STATUS:CONFIRMED
TRANSP:OPAQUE
END:VEVENT
END:VCALENDAR
