BEGIN:VCALENDAR
VERSION:2.0
METHOD:PUBLISH
BEGIN:VEVENT
DTSTART:20211202T160000Z
DTEND:20211205T210000Z
LOCATION:Aguanga, CA 92536
TRANSP: OPAQUE
SEQUENCE:0
UID:
DTSTAMP:20260424T045547Z
SUMMARY:Grasons Co South Riverside County Aguanga Estate
DESCRIPTION:Grasons Co South Riverside County Aguanga Estate Grasons Co of South Riverside County 
UID:1777028147
STREET-ADDRESS:See website
POSTAL-CODE:92536
LOCALITY:Aguanga
REGION:ABBREV=CA
COUNTRY:ABBREV=US;ABBREV=USA:United States
URL;TYPE=Event Listing:https://estatesales.org/estate-sales/ca/aguanga/92536/grasons-co-south-riverside-county-1976643
PRIORITY:1
CLASS:PUBLIC
SEQUENCE:0
STATUS:CONFIRMED
TRANSP:OPAQUE
END:VEVENT
END:VCALENDAR
