BEGIN:VCALENDAR
VERSION:2.0
METHOD:PUBLISH
BEGIN:VEVENT
DTSTART:20161202T170000Z
DTEND:20161203T230000Z
LOCATION:Elk Grove, CA 95758
TRANSP: OPAQUE
SEQUENCE:0
UID:
DTSTAMP:20260421T115606Z
SUMMARY:New Life Presents An  Eclectic Elk Grove Estate  Sale
DESCRIPTION:New Life Presents An  Eclectic Elk Grove Estate  Sale Calder Estate Sales and Liquidators 
UID:1776794166
STREET-ADDRESS:See website
POSTAL-CODE:95758
LOCALITY:Elk Grove
REGION:ABBREV=CA
COUNTRY:ABBREV=US;ABBREV=USA:United States
URL;TYPE=Event Listing:https://estatesales.org/estate-sales/ca/elk-grove/95758/new-life-presents-an-eclectic-1037575
PRIORITY:1
CLASS:PUBLIC
SEQUENCE:0
STATUS:CONFIRMED
TRANSP:OPAQUE
END:VEVENT
END:VCALENDAR
