BEGIN:VCALENDAR
VERSION:2.0
METHOD:PUBLISH
BEGIN:VEVENT
DTSTART:20231201T160000Z
DTEND:20231203T220000Z
LOCATION:Oklahoma City, OK 73120
TRANSP: OPAQUE
SEQUENCE:0
UID:
DTSTAMP:20260420T234927Z
SUMMARY:Exclusive Edmond Gated community homes Oaktree & Saratoga Farms Combined into Spectacular Sale @ NorthPark 
DESCRIPTION:Exclusive Edmond Gated community homes Oaktree & Saratoga Farms Combined into Spectacular Sale @ NorthPark  Swan Estate Sales 
UID:1776750567
STREET-ADDRESS:See website
POSTAL-CODE:73120
LOCALITY:Oklahoma City
REGION:ABBREV=OK
COUNTRY:ABBREV=US;ABBREV=USA:United States
URL;TYPE=Event Listing:https://estatesales.org/estate-sales/ok/oklahoma-city/73120/exclusive-edmond-gated-community-homes-2259875
PRIORITY:1
CLASS:PUBLIC
SEQUENCE:0
STATUS:CONFIRMED
TRANSP:OPAQUE
END:VEVENT
END:VCALENDAR
