BEGIN:VCALENDAR
VERSION:2.0
METHOD:PUBLISH
BEGIN:VEVENT
DTSTART:20231201T140000Z
DTEND:20231203T190000Z
LOCATION:Longwood, FL 32779
TRANSP: OPAQUE
SEQUENCE:0
UID:
DTSTAMP:20260423T132550Z
SUMMARY:EMERALD will be in Longwood 
DESCRIPTION:EMERALD will be in Longwood  Estate Sales by Emerald 
UID:1776972350
STREET-ADDRESS:See website
POSTAL-CODE:32779
LOCALITY:Longwood
REGION:ABBREV=FL
COUNTRY:ABBREV=US;ABBREV=USA:United States
URL;TYPE=Event Listing:https://estatesales.org/estate-sales/fl/longwood/32779/emerald-will-be-in-longwood-2259899
PRIORITY:1
CLASS:PUBLIC
SEQUENCE:0
STATUS:CONFIRMED
TRANSP:OPAQUE
END:VEVENT
END:VCALENDAR
