BEGIN:VCALENDAR
VERSION:2.0
METHOD:PUBLISH
BEGIN:VEVENT
DTSTART:20221201T150000Z
DTEND:20221203T200000Z
LOCATION:Chandler, AZ 85225
TRANSP: OPAQUE
SEQUENCE:0
UID:
DTSTAMP:20260419T113744Z
SUMMARY:ESTATE SALE  ***50% OFF Saturday*** Vintage Estate Sale
DESCRIPTION:ESTATE SALE  ***50% OFF Saturday*** Vintage Estate Sale Lythcoop Estate Liquidators LLC 
UID:1776620264
STREET-ADDRESS:See website
POSTAL-CODE:85225
LOCALITY:Chandler
REGION:ABBREV=AZ
COUNTRY:ABBREV=US;ABBREV=USA:United States
URL;TYPE=Event Listing:https://estatesales.org/estate-sales/az/chandler/85225/estate-sale-50-off-saturday-2117389
PRIORITY:1
CLASS:PUBLIC
SEQUENCE:0
STATUS:CONFIRMED
TRANSP:OPAQUE
END:VEVENT
END:VCALENDAR
