BEGIN:VCALENDAR
VERSION:2.0
METHOD:PUBLISH
BEGIN:VEVENT
DTSTART:20171201T130000Z
DTEND:20171203T200000Z
LOCATION:Louisville, KY 40245
TRANSP: OPAQUE
SEQUENCE:0
UID:
DTSTAMP:20260422T105643Z
SUMMARY:Horse Trainer D. Wayne Lukas Estate Sale
DESCRIPTION:Horse Trainer D. Wayne Lukas Estate Sale Ray's Estate Sales 
UID:1776877003
STREET-ADDRESS:See website
POSTAL-CODE:40245
LOCALITY:Louisville
REGION:ABBREV=KY
COUNTRY:ABBREV=US;ABBREV=USA:United States
URL;TYPE=Event Listing:https://estatesales.org/estate-sales/ky/louisville/40245/horse-trainer-d-wayne-lukas-1456647
PRIORITY:1
CLASS:PUBLIC
SEQUENCE:0
STATUS:CONFIRMED
TRANSP:OPAQUE
END:VEVENT
END:VCALENDAR
