BEGIN:VCALENDAR
VERSION:2.0
METHOD:PUBLISH
BEGIN:VEVENT
DTSTART:20161201T150000Z
DTEND:20161203T230000Z
LOCATION:Benton Harbor, MI 49022
TRANSP: OPAQUE
SEQUENCE:0
UID:
DTSTAMP:20260424T133518Z
SUMMARY:Antique Furniture & Collectibles in Fairplain.
DESCRIPTION:Antique Furniture & Collectibles in Fairplain. Olson Estate Service 
UID:1777059318
STREET-ADDRESS:See website
POSTAL-CODE:49022
LOCALITY:Benton Harbor
REGION:ABBREV=MI
COUNTRY:ABBREV=US;ABBREV=USA:United States
URL;TYPE=Event Listing:https://estatesales.org/estate-sales/mi/benton-harbor/49022/antique-furniture-collectibles-in-fairplain-1038939
PRIORITY:1
CLASS:PUBLIC
SEQUENCE:0
STATUS:CONFIRMED
TRANSP:OPAQUE
END:VEVENT
END:VCALENDAR
