BEGIN:VCALENDAR
VERSION:2.0
METHOD:PUBLISH
BEGIN:VEVENT
DTSTART:20231130T130000Z
DTEND:20231202T170000Z
LOCATION:Dunedin, FL 34698
TRANSP: OPAQUE
SEQUENCE:0
UID:
DTSTAMP:20260423T095616Z
SUMMARY:Baby Boomers Dunedin Estate Sale
DESCRIPTION:Baby Boomers Dunedin Estate Sale Baby Boomers Estate Sales 
UID:1776959776
STREET-ADDRESS:See website
POSTAL-CODE:34698
LOCALITY:Dunedin
REGION:ABBREV=FL
COUNTRY:ABBREV=US;ABBREV=USA:United States
URL;TYPE=Event Listing:https://estatesales.org/estate-sales/fl/dunedin/34698/baby-boomers-dunedin-estate-sale-2259883
PRIORITY:1
CLASS:PUBLIC
SEQUENCE:0
STATUS:CONFIRMED
TRANSP:OPAQUE
END:VEVENT
END:VCALENDAR
