BEGIN:VCALENDAR
VERSION:2.0
METHOD:PUBLISH
BEGIN:VEVENT
DTSTART:20221130T150000Z
DTEND:20221203T200000Z
LOCATION:Manhattan, KS 66503
TRANSP: OPAQUE
SEQUENCE:0
UID:
DTSTAMP:20260419T182003Z
SUMMARY:The Estate of Dr. Ron & Barbara Price 
DESCRIPTION:The Estate of Dr. Ron & Barbara Price  Above and Beyond estate sales 
UID:1776644403
STREET-ADDRESS:See website
POSTAL-CODE:66503
LOCALITY:Manhattan
REGION:ABBREV=KS
COUNTRY:ABBREV=US;ABBREV=USA:United States
URL;TYPE=Event Listing:https://estatesales.org/estate-sales/ks/manhattan/66503/the-estate-of-dr-ron-2125419
PRIORITY:1
CLASS:PUBLIC
SEQUENCE:0
STATUS:CONFIRMED
TRANSP:OPAQUE
END:VEVENT
END:VCALENDAR
