BEGIN:VCALENDAR
VERSION:2.0
METHOD:PUBLISH
BEGIN:VEVENT
DTSTART:20191130T140000Z
DTEND:20191201T190000Z
LOCATION:Mount Pleasant, SC 29464
TRANSP: OPAQUE
SEQUENCE:0
UID:
DTSTAMP:20260421T175800Z
SUMMARY:Estate Treasures' 75% Discounts in Wakendaw BYOB
DESCRIPTION:Estate Treasures' 75% Discounts in Wakendaw BYOB Estate Treasures, LLC 
UID:1776815880
STREET-ADDRESS:See website
POSTAL-CODE:29464
LOCALITY:Mount Pleasant
REGION:ABBREV=SC
COUNTRY:ABBREV=US;ABBREV=USA:United States
URL;TYPE=Event Listing:https://estatesales.org/estate-sales/sc/mount-pleasant/29464/estate-treasures-75-discounts-in-1744893
PRIORITY:1
CLASS:PUBLIC
SEQUENCE:0
STATUS:CONFIRMED
TRANSP:OPAQUE
END:VEVENT
END:VCALENDAR
