BEGIN:VCALENDAR
VERSION:2.0
METHOD:PUBLISH
BEGIN:VEVENT
DTSTART:20191130T150000Z
DTEND:20191201T220000Z
LOCATION:La Canada Flintridge, CA 91011
TRANSP: OPAQUE
SEQUENCE:0
UID:
DTSTAMP:20260421T153145Z
SUMMARY:EARLYBIRD | Tools, Collectable & Everything Else
DESCRIPTION:EARLYBIRD | Tools, Collectable & Everything Else Hughes Estate Auctions & Earlybird Estate Liquidation 
UID:1776807105
STREET-ADDRESS:See website
POSTAL-CODE:91011
LOCALITY:La Canada Flintridge
REGION:ABBREV=CA
COUNTRY:ABBREV=US;ABBREV=USA:United States
URL;TYPE=Event Listing:https://estatesales.org/estate-sales/ca/la-caada-flintridge/91011/earlybird-tools-collectable-everything-else-1745813
PRIORITY:1
CLASS:PUBLIC
SEQUENCE:0
STATUS:CONFIRMED
TRANSP:OPAQUE
END:VEVENT
END:VCALENDAR
