BEGIN:VCALENDAR
VERSION:2.0
METHOD:PUBLISH
BEGIN:VEVENT
DTSTART:20181130T170000Z
DTEND:20181202T230000Z
LOCATION:Austin, TX 78732
TRANSP: OPAQUE
SEQUENCE:0
UID:
DTSTAMP:20260424T121918Z
SUMMARY:Phase II Teasures on Lake Travis at Travis Vista *****SUNDAY IS DISCOUNT DAY******* 50% OFF
DESCRIPTION:Phase II Teasures on Lake Travis at Travis Vista *****SUNDAY IS DISCOUNT DAY******* 50% OFF Past 2 Present Estate Sale Service 
UID:1777054758
STREET-ADDRESS:See website
POSTAL-CODE:78732
LOCALITY:Austin
REGION:ABBREV=TX
COUNTRY:ABBREV=US;ABBREV=USA:United States
URL;TYPE=Event Listing:https://estatesales.org/estate-sales/tx/austin/78732/phase-ii-teasures-on-lake-1593797
PRIORITY:1
CLASS:PUBLIC
SEQUENCE:0
STATUS:CONFIRMED
TRANSP:OPAQUE
END:VEVENT
END:VCALENDAR
