BEGIN:VCALENDAR
VERSION:2.0
METHOD:PUBLISH
BEGIN:VEVENT
DTSTART:20181130T140000Z
DTEND:20181202T200000Z
LOCATION:Yonkers, NY 10708
TRANSP: OPAQUE
SEQUENCE:0
UID:
DTSTAMP:20260420T194457Z
SUMMARY:Yonkers Tri- State Estate Sale
DESCRIPTION:Yonkers Tri- State Estate Sale Tri State Estate Sales 
UID:1776735897
STREET-ADDRESS:See website
POSTAL-CODE:10708
LOCALITY:Yonkers
REGION:ABBREV=NY
COUNTRY:ABBREV=US;ABBREV=USA:United States
URL;TYPE=Event Listing:https://estatesales.org/estate-sales/ny/yonkers/10708/yonkers-tri-state-estate-sale-1599891
PRIORITY:1
CLASS:PUBLIC
SEQUENCE:0
STATUS:CONFIRMED
TRANSP:OPAQUE
END:VEVENT
END:VCALENDAR
