BEGIN:VCALENDAR
VERSION:2.0
METHOD:PUBLISH
BEGIN:VEVENT
DTSTART:20171130T170000Z
DTEND:20171202T230000Z
LOCATION:Aurora, CO 80016
TRANSP: OPAQUE
SEQUENCE:0
UID:
DTSTAMP:20260422T131627Z
SUMMARY:Chenango Estate Sale
DESCRIPTION:Chenango Estate Sale TCS Estate Sales 
UID:1776885387
STREET-ADDRESS:See website
POSTAL-CODE:80016
LOCALITY:Aurora
REGION:ABBREV=CO
COUNTRY:ABBREV=US;ABBREV=USA:United States
URL;TYPE=Event Listing:https://estatesales.org/estate-sales/co/aurora/80016/chenango-estate-sale-1451027
PRIORITY:1
CLASS:PUBLIC
SEQUENCE:0
STATUS:CONFIRMED
TRANSP:OPAQUE
END:VEVENT
END:VCALENDAR
