BEGIN:VCALENDAR
VERSION:2.0
METHOD:PUBLISH
BEGIN:VEVENT
DTSTART:20251129T150000Z
DTEND:20251130T190000Z
LOCATION:De Soto, MO 63020
TRANSP: OPAQUE
SEQUENCE:0
UID:
DTSTAMP:20260424T095515Z
SUMMARY:LUCKY STRIKE ESTATE SALES, LLC - PRIMITIVES & TOOLS
DESCRIPTION:LUCKY STRIKE ESTATE SALES, LLC - PRIMITIVES & TOOLS Lucky Strike Estate Sales, LLC 
UID:1777046115
STREET-ADDRESS:See website
POSTAL-CODE:63020
LOCALITY:De Soto
REGION:ABBREV=MO
COUNTRY:ABBREV=US;ABBREV=USA:United States
URL;TYPE=Event Listing:https://estatesales.org/estate-sales/mo/de-soto/63020/lucky-strike-estate-sales-llc-2414550
PRIORITY:1
CLASS:PUBLIC
SEQUENCE:0
STATUS:CONFIRMED
TRANSP:OPAQUE
END:VEVENT
END:VCALENDAR
