BEGIN:VCALENDAR
VERSION:2.0
METHOD:PUBLISH
BEGIN:VEVENT
DTSTART:20251129T160000Z
DTEND:20251130T210000Z
LOCATION:Menifee, CA 92584
TRANSP: OPAQUE
SEQUENCE:0
UID:
DTSTAMP:20260425T045207Z
SUMMARY:50 % off Sunday Melgar’s Estate Sales Presents Our Backyard Estate Sale in Menifee
DESCRIPTION:50 % off Sunday Melgar’s Estate Sales Presents Our Backyard Estate Sale in Menifee Melgar's Estate Sales 
UID:1777114327
STREET-ADDRESS:See website
POSTAL-CODE:92584
LOCALITY:Menifee
REGION:ABBREV=CA
COUNTRY:ABBREV=US;ABBREV=USA:United States
URL;TYPE=Event Listing:https://estatesales.org/estate-sales/ca/menifee/92584/50-off-sunday-melgars-estate-2415389
PRIORITY:1
CLASS:PUBLIC
SEQUENCE:0
STATUS:CONFIRMED
TRANSP:OPAQUE
END:VEVENT
END:VCALENDAR
