BEGIN:VCALENDAR
VERSION:2.0
METHOD:PUBLISH
BEGIN:VEVENT
DTSTART:20191129T150000Z
DTEND:20191202T210000Z
LOCATION:Malakoff, TX 75148
TRANSP: OPAQUE
SEQUENCE:0
UID:
DTSTAMP:20260424T215831Z
SUMMARY:Lakeside Estate Sales, LLC on Cedar Creek LaKe! Starts on Black Friday! 
DESCRIPTION:Lakeside Estate Sales, LLC on Cedar Creek LaKe! Starts on Black Friday!  Lakeside Estate Sales, CGL LLC. 
UID:1777089511
STREET-ADDRESS:See website
POSTAL-CODE:75148
LOCALITY:Malakoff
REGION:ABBREV=TX
COUNTRY:ABBREV=US;ABBREV=USA:United States
URL;TYPE=Event Listing:https://estatesales.org/estate-sales/tx/malakoff/75148/lakeside-estate-sales-llc-on-1744675
PRIORITY:1
CLASS:PUBLIC
SEQUENCE:0
STATUS:CONFIRMED
TRANSP:OPAQUE
END:VEVENT
END:VCALENDAR
