BEGIN:VCALENDAR
VERSION:2.0
METHOD:PUBLISH
BEGIN:VEVENT
DTSTART:20181129T150000Z
DTEND:20181201T190000Z
LOCATION:Kansas City, KS 66109
TRANSP: OPAQUE
SEQUENCE:0
UID:
DTSTAMP:20260419T082710Z
SUMMARY:Caring Transitions KC presents the house where nothing was ever thrown away!
DESCRIPTION:Caring Transitions KC presents the house where nothing was ever thrown away! Caring Transitions Kansas City 
UID:1776608830
STREET-ADDRESS:See website
POSTAL-CODE:66109
LOCALITY:Kansas City
REGION:ABBREV=KS
COUNTRY:ABBREV=US;ABBREV=USA:United States
URL;TYPE=Event Listing:https://estatesales.org/estate-sales/ks/kansas-city-/66109/caring-transitions-kc-presents-the-1597373
PRIORITY:1
CLASS:PUBLIC
SEQUENCE:0
STATUS:CONFIRMED
TRANSP:OPAQUE
END:VEVENT
END:VCALENDAR
