BEGIN:VCALENDAR
VERSION:2.0
METHOD:PUBLISH
BEGIN:VEVENT
DTSTART:20181129T140000Z
DTEND:20181201T200000Z
LOCATION:Novi, MI 48375
TRANSP: OPAQUE
SEQUENCE:0
UID:
DTSTAMP:20260423T233328Z
SUMMARY:Specially Nice Novi Estate Sale!
DESCRIPTION:Specially Nice Novi Estate Sale! TLC Premiere Estate Sales, LLC 
UID:1777008808
STREET-ADDRESS:See website
POSTAL-CODE:48375
LOCALITY:Novi
REGION:ABBREV=MI
COUNTRY:ABBREV=US;ABBREV=USA:United States
URL;TYPE=Event Listing:https://estatesales.org/estate-sales/mi/novi/48375/specially-nice-novi-estate-sale-1597305
PRIORITY:1
CLASS:PUBLIC
SEQUENCE:0
STATUS:CONFIRMED
TRANSP:OPAQUE
END:VEVENT
END:VCALENDAR
