BEGIN:VCALENDAR
VERSION:2.0
METHOD:PUBLISH
BEGIN:VEVENT
DTSTART:20251128T160000Z
DTEND:20251130T210000Z
LOCATION:Purcellville, VA 20132
TRANSP: OPAQUE
SEQUENCE:0
UID:
DTSTAMP:20260422T235008Z
SUMMARY:Black Friday and Small Business Saturday - Vintage Clothing and Antique Furniture Sale
DESCRIPTION:Black Friday and Small Business Saturday - Vintage Clothing and Antique Furniture Sale
UID:1776923408
STREET-ADDRESS:See website
POSTAL-CODE:20132
LOCALITY:Purcellville
REGION:ABBREV=VA
COUNTRY:ABBREV=US;ABBREV=USA:United States
URL;TYPE=Event Listing:https://estatesales.org/estate-sales/va/purcellville/20132/black-friday-and-small-business-2414868
PRIORITY:1
CLASS:PUBLIC
SEQUENCE:0
STATUS:CONFIRMED
TRANSP:OPAQUE
END:VEVENT
END:VCALENDAR
