BEGIN:VCALENDAR
VERSION:2.0
METHOD:PUBLISH
BEGIN:VEVENT
DTSTART:20201128T140000Z
DTEND:20201129T200000Z
LOCATION:Manchester, NH 03102
TRANSP: OPAQUE
SEQUENCE:0
UID:
DTSTAMP:20260424T030303Z
SUMMARY:Marvelous Manchester NH Estate Sale 
DESCRIPTION:Marvelous Manchester NH Estate Sale  OPUS Estate Sales and Downsizing Specialist LLC 
UID:1777021383
STREET-ADDRESS:See website
POSTAL-CODE:03102
LOCALITY:Manchester
REGION:ABBREV=NH
COUNTRY:ABBREV=US;ABBREV=USA:United States
URL;TYPE=Event Listing:https://estatesales.org/estate-sales/nh/manchester/03102/marvelous-manchester-nh-estate-sale-1850761
PRIORITY:1
CLASS:PUBLIC
SEQUENCE:0
STATUS:CONFIRMED
TRANSP:OPAQUE
END:VEVENT
END:VCALENDAR
