BEGIN:VCALENDAR
VERSION:2.0
METHOD:PUBLISH
BEGIN:VEVENT
DTSTART:20201128T180000Z
DTEND:20201128T200000Z
LOCATION:Hampton, NJ 08827
TRANSP: OPAQUE
SEQUENCE:0
UID:
DTSTAMP:20260422T223853Z
SUMMARY:Estate Sale at 565 Bloomsbury Road, Hampton NJ 08827
DESCRIPTION:Estate Sale at 565 Bloomsbury Road, Hampton NJ 08827 Cherry Hill Liquidators Inc. 
UID:1776919133
STREET-ADDRESS:See website
POSTAL-CODE:08827
LOCALITY:Hampton
REGION:ABBREV=NJ
COUNTRY:ABBREV=US;ABBREV=USA:United States
URL;TYPE=Event Listing:https://estatesales.org/estate-sales/nj/hampton/08827/estate-sale-at-565-bloomsbury-1851353
PRIORITY:1
CLASS:PUBLIC
SEQUENCE:0
STATUS:CONFIRMED
TRANSP:OPAQUE
END:VEVENT
END:VCALENDAR
